Workbook

Sheet Lukemat
B1: pvm | C1: kuukausi | D1: kulutus kk | E1: käyttösähkö | F1: iv kone lukema | G1: iv-kone kWh/kk | H1: mlp lukema | I1: mlp kWh/kk | J1: mlp h | K1: h/kk | L1: mlp start | M1: start /kk | N1: keskikäynti | O1: vesi m3 | P1: veden ku | Q1: keski T | R1: lämmitystarveluku
B2: 42401 | C2: tammikuu | D2: 1361.76 | E2: =D2-I2-G2 -> 345.33 | F2: 1164.32 | G2: =F2-F3 -> 102.15 | H2: 11151.84 | I2: =H2-H3 -> 914.28 | J2: 5547 | K2: =J2-J3 -> 414 | L2: 4817 | M2: =L2-L3 -> 341 | N2: =K2*60/M2 -> 72.844575 | O2: 180.5 | P2: =O2-O3 -> 7 | Q2: -11.5 | R2: 884
B3: 42370 | C3: joulukuu | D3: 1000.43 | E3: =D3-I3-G3 -> 278.24 | F3: 1062.17 | G3: =F3-F4 -> 58.5 | H3: 10237.56 | I3: =H3-H4 -> 663.69 | J3: 5133 | K3: =J3-J4 -> 295 | L3: 4476 | M3: =L3-L4 -> 340 | N3: =K3*60/M3 -> 52.058824 | O3: 173.5 | P3: =O3-O4 -> 7.5 | Q3: 1.3 | R3: 486
B4: 42339 | C4: marraskuu | D4: 816.94 | E4: =D4-I4-G4 -> 232.5 | F4: 1003.67 | G4: =F4-F5 -> 38.65 | H4: 9573.87 | I4: =H4-H5 -> 545.79 | J4: 4838 | K4: =J4-J5 -> 238 | L4: 4136 | M4: =L4-L5 -> 292 | N4: =K4*60/M4 -> 48.90411 | O4: 166 | P4: =O4-O5 -> 7 | Q4: 3.4 | R4: 408
B5: 42309 | C5: lokakuu | D5: 848.08 | E5: =D5-I5-G5 -> 266.45 | F5: 965.02 | G5: =F5-F6 -> 60.46 | H5: 9028.08 | I5: =H5-H6 -> 521.17 | J5: 4600 | K5: =J5-J6 -> 222 | L5: 3844 | M5: =L5-L6 -> 262 | N5: =K5*60/M5 -> 50.839695 | O5: 159 | P5: =O5-O6 -> 6.5 | Q5: 4.4 | R5: 387
B6: 42278 | C6: syyskuu | D6: 582.5 | E6: =D6-I6-G6 -> 255.9 | F6: 904.56 | G6: =F6-F7 -> 59.12 | H6: 8506.91 | I6: =H6-H7 -> 267.48 | J6: 4378 | K6: =J6-J7 -> 101 | L6: 3582 | M6: =L6-L7 -> 166 | N6: =K6*60/M6 -> 36.506024 | O6: 152.5 | P6: =O6-O7 -> 11 | Q6: 11.5 | R6: 124
B7: 42248 | C7: elokuu | D7: 482 | E7: =D7-I7-G7 -> 263.69343 | F7: 845.44 | G7: =F7-F8 -> 66.69 | H7: 8239.43 | I7: =H7-H8 -> 151.61657 | J7: 4277 | K7: =J7-J8 -> 49 | L7: 3416 | M7: =L7-L8 -> 121 | N7: =K7*60/M7 -> 24.297521 | O7: 141.5 | P7: =O7-O8 -> 21 | Q7: 15.9 | R7: 0
B8: 42217 | C8: heinäkuu | D8: 522.69 | E8: =D8-I8-G8 -> 283.85657 | F8: 778.75 | G8: 66.5 | H8: 8087.8134 | I8: 172.33343 | J8: 4228 | K8: 58 | L8: 3295 | M8: 138 | N8: =K8*60/M8 -> 25.217391 | O8: 120.5 | P8: 11 | Q8: 15.1 | R8: 0
B9: 42186 | C9: kesäkuu | D9: 499 | E9: =D9-I9-G9 -> 194.62 | F9: 712.25 | G9: =F9-F10 -> 60.9 | H9: 7915.48 | I9: =H9-H10 -> 243.48 | J9: 4170 | K9: =J9-J10 -> 90 | L9: 3157 | M9: =L9-L10 -> 180 | N9: =K9*60/M9 -> 30 | O9: 109.5 | P9: =O9-O10 -> 8.5 | Q9: 12.1 | R9: 15
B10: 42155 | C10: toukokuu | D10: 699.95 | E10: =D10-I10-G10 -> 272.85 | F10: 651.35 | G10: =F10-F11 -> 64.82 | H10: 7672 | I10: =H10-H11 -> 362.28 | J10: 4080 | K10: =J10-J11 -> 146 | L10: 2977 | M10: =L10-L11 -> 192 | N10: =K10*60/M10 -> 45.625 | O10: 101 | P10: =O10-O11 -> 8 | Q10: 8.9 | R10: 179
B11: 42124 | C11: huhtikuu | D11: 914.57 | E11: =D11-I11-G11 -> 298.35 | F11: 586.53 | G11: =F11-F12 -> 40.41 | H11: 7309.72 | I11: =H11-H12 -> 575.81 | J11: 3934 | K11: =J11-J12 -> 245 | L11: 2785 | M11: =L11-L12 -> 178 | N11: =K11*60/M11 -> 82.58427 | O11: 93 | P11: =O11-O12 -> 10 | Q11: 4.3 | R11: 380
B12: 42094 | C12: maaliskuu | D12: 974.55 | E12: =D12-I12-G12 -> 287.18 | F12: 546.12 | G12: =F12-F13 -> 46.12 | H12: 6733.91 | I12: =H12-H13 -> 641.25 | J12: 3689 | K12: =J12-J13 -> 282 | L12: 2607 | M12: =L12-L13 -> 194 | N12: =K12*60/M12 -> 87.216495 | O12: 83 | P12: =O12-O13 -> 7.5 | Q12: 0.8 | R12: 501
B13: 42063 | C13: helmikuu | D13: 960.12 | E13: =D13-I13-G13 -> 263.69 | F13: 500 | G13: =F13-F14 -> 41.24 | H13: 6092.66 | I13: =H13-H14 -> 655.19 | J13: 3407 | K13: =J13-J14 -> 287 | L13: 2413 | M13: =L13-L14 -> 188 | N13: =K13*60/M13 -> 91.595745 | O13: 75.5 | P13: =O13-O14 -> 6.5 | Q13: -1.1 | R13: 507
B14: 42035 | C14: tammikuu | D14: 1174 | E14: =D14-I14-G14 -> 318.47 | F14: 458.76 | G14: =F14-F15 -> 59.2 | H14: 5437.47 | I14: =H14-H15 -> 796.33 | J14: 3120 | L14: 2225 | O14: 69 | P14: =O14-O15 -> 7.5 | Q14: -3.4 | R14: 632
B15: 42004 | D15: 1169 | F15: 399.56 | H15: 4641.14 | O15: 61.5 | Q15: -2 | R15: 588
B16: 41973 | D16: 1009 | Q16: 1.5 | R16: 466
B17: 41943 | D17: 978 | Q17: 5.2 | R17: 367
B18: 41912 | D18: 753 | Q18: 10.9 | R18: 156
B19: 41882 | D19: 563 | Q19: 16.2 | R19: 25
B20: 41851 | D20: 536 | Q20: 19.6 | R20: 6
B21: 41820 | D21: 378 | Q21: 12.6 | R21: 52
B22: 41790 | D22: 316 | Q22: 10.1 | R22: 212
B23: 41759 | D23: 434 | Q23: 4.6 | R23: 368
B24: 41729 | D24: 515 | Q24: 1 | R24: 495
B25: 41698 | D25: 977 | Q25: -0.5 | R25: 489
B26: 41670 | D26: 1361 | Q26: -9.5 | R26: 822
B28: 1.7.2014-30.6.2015 | D28: =SUM(D9:D20) -> 10230.19 | G28: =F9 -> 712.25
B29: 2015 | D29: =SUM(D3:D14) -> 9474.83 | E29: =SUM(E3:E14) -> 3215.8 | G29: =SUM(G3:G14) -> 662.61 | I29: =SUM(I3:I14) -> 5596.42 | K29: =SUM(K3:K14) -> 2013 | M29: =SUM(M3:M14) -> 2251 | N29: =AVERAGE(N3:N14) -> 52.258643 | P29: =SUM(P3:P14) -> 112 | R29: =SUM(R3:R14) -> 3619
C30: Lämmitystarveluvut vertailukaudella 1981-2010
C31: I | D31: II | E31: III | F31: IV | G31: V | H31: VI | I31: VII | J31: VIII | K31: IX | L31: X | M31: XI | N31: XII | O31: yhteensä
B32: Tampere | C32: 724 | D32: 675 | E32: 612 | F32: 400 | G32: 176 | H32: 28 | I32: 5 | J32: 34 | K32: 192 | L32: 382 | M32: 529 | N32: 667 | O32: 4424
B33: % | C33: =C32/$O$32*100 -> 16.36528 | D33: =D32/$O$32*100 -> 15.257685 | E33: =E32/$O$32*100 -> 13.833635 | F33: =F32/$O$32*100 -> 9.0415913 | G33: =G32/$O$32*100 -> 3.9783002 | H33: =H32/$O$32*100 -> 0.63291139 | I33: =I32/$O$32*100 -> 0.11301989 | J33: =J32/$O$32*100 -> 0.76853526 | ... N33: =N32/$O$32*100 -> 15.076854

Sheet MLP tuotot & kulutukset
A1: viikko | B1: vuosi | C1: lv sähkö | D1: lv tuotto | E1: lv cop | F1: kaivosta | G1: kv sähkö | H1: kv tuotto | I1: kv cop
B2: 2015 | C2: =SUM(C56:C108)-32-22-17-32-32-30 -> 4540.2 | D2: =SUM(D56:D108)-130-115-75-125-125-120 -> 19880.05 | E2: =D2/C2 -> 4.3786727 | F2: =D2+H2-G2-C2 -> 17232.85 | G2: =SUM(G56:G108)-7-7 -> 869.7 | H2: =SUM(H56:H108)-21-21 -> 2762.7 | I2: =H2/G2 -> 3.1766126 | K2: yhteensä sähkö | M2: =C2+G2 -> 5409.9
A4: 1
A5: 2
A6: 3
A7: 4
A8: 5
A9: 6
A10: 7
A11: 8
A12: 9
A13: 10
A14: 11
A15: 12
... A29: 26
A30: 27 | B30: 2014 | C30: 40.4 | D30: 181 | E30: =D30/C30 -> 4.480198 | F30: =D30-C30+H30-G30 -> 167.8 | G30: 12.1 | H30: 39.3 | I30: =H30/G30 -> 3.2479339
A31: 28 | C31: 0 | D31: 0 | E31: =D31/C31 -> #DIV/0! | F31: =D31-C31+H31-G31 -> 44.9 | G31: 20.2 | H31: 65.1 | I31: =H31/G31 -> 3.2227723
A32: 29 | C32: 0 | D32: 0 | E32: =D32/C32 -> #DIV/0! | F32: =D32-C32+H32-G32 -> 39.7 | G32: 18.2 | H32: 57.9 | I32: =H32/G32 -> 3.1813187
A33: 30 | C33: 0 | D33: 0 | E33: =D33/C33 -> #DIV/0! | F33: =D33-C33+H33-G33 -> 31.3 | G33: 13.9 | H33: 45.2 | I33: =H33/G33 -> 3.2517986
A34: 31 | C34: 0 | D34: 0 | E34: =D34/C34 -> #DIV/0! | F34: =D34-C34+H34-G34 -> 31.8 | G34: 14.2 | H34: 46 | I34: =H34/G34 -> 3.2394366
A35: 32 | C35: 0 | D35: 0 | E35: =D35/C35 -> #DIV/0! | F35: =D35-C35+H35-G35 -> 25.8 | G35: 11.5 | H35: 37.3 | I35: =H35/G35 -> 3.2434783
A36: 33 | C36: 16.2 | D36: 74.7 | E36: =D36/C36 -> 4.6111111 | F36: =D36-C36+H36-G36 -> 85.2 | G36: 12.3 | H36: 39 | I36: =H36/G36 -> 3.1707317
A37: 34 | C37: 33.2 | D37: 151.2 | E37: =D37/C37 -> 4.5542169 | F37: =D37-C37+H37-G37 -> 143.6 | G37: 12.1 | H37: 37.7 | I37: =H37/G37 -> 3.1157025
A38: 35 | C38: 44 | D38: 197 | E38: =D38/C38 -> 4.4772727 | F38: =D38-C38+H38-G38 -> 187.2 | G38: 15.9 | H38: 50.1 | I38: =H38/G38 -> 3.1509434
A39: 36 | C39: 35.2 | D39: 157.9 | E39: =D39/C39 -> 4.4857955 | F39: =D39-C39+H39-G39 -> 154.6 | G39: 15.3 | H39: 47.2 | I39: =H39/G39 -> 3.0849673
A40: 37 | C40: 35.7 | D40: 166.9 | E40: =D40/C40 -> 4.67507 | F40: =D40-C40+H40-G40 -> 165.2 | G40: 16.5 | H40: 50.5 | I40: =H40/G40 -> 3.0606061
A41: 38 | C41: 50 | D41: 221.8 | E41: =D41/C41 -> 4.436 | F41: =D41-C41+H41-G41 -> 199.9 | G41: 13.4 | H41: 41.5 | I41: =H41/G41 -> 3.0970149
A42: 39 | C42: 79.7 | D42: 354.1 | E42: =D42/C42 -> 4.4429109 | F42: =D42-C42+H42-G42 -> 305 | G42: 14.9 | H42: 45.5 | I42: =H42/G42 -> 3.0536913
... A55: 52 | C55: 203.6 | D55: 840 | E55: =D55/C55 -> 4.1257367 | F55: =D55-C55+H55-G55 -> 670.6 | G55: 17.2 | H55: 51.4 | I55: =H55/G55 -> 2.9883721
A56: 1 | B56: 2015 | C56: 151.5 | D56: 632.9 | E56: =D56/C56 -> 4.1775578 | F56: =D56-C56+H56-G56 -> 518.6 | G56: 17.5 | H56: 54.7 | I56: =H56/G56 -> 3.1257143
A57: 2 | C57: 190.1 | D57: 785.5 | E57: =D57/C57 -> 4.1320358 | F57: =D57-C57+H57-G57 -> 629.5 | G57: 16.9 | H57: 51 | I57: =H57/G57 -> 3.0177515
A58: 3 | C58: 147.4 | D58: 618.3 | E58: =D58/C58 -> 4.1947083 | F58: =D58-C58+H58-G58 -> 508.8 | G58: 18.6 | H58: 56.5 | I58: =H58/G58 -> 3.0376344
A59: 4 | C59: 184.6 | D59: 782.5 | E59: =D59/C59 -> 4.2388949 | F59: =D59-C59+H59-G59 -> 633.7 | G59: 17.5 | H59: 53.3 | I59: =H59/G59 -> 3.0457143
A60: 5 | C60: 152.3 | D60: 645.5 | E60: =D60/C60 -> 4.2383454 | F60: =D60-C60+H60-G60 -> 527.6 | G60: 16.6 | H60: 51 | I60: =H60/G60 -> 3.0722892
A61: 6 | C61: =(C60+C62)/2 -> 151.15 | D61: =(D60+D62)/2 -> 639.75 | E61: =D61/C61 -> 4.2325504 | F61: =D61-C61+H61-G61 -> 523 | G61: =(G60+G62)/2 -> 16.75 | H61: =(H60+H62)/2 -> 51.15 | I61: =H61/G61 -> 3.0537313
A62: 7 | C62: 150 | D62: 634 | E62: =D62/C62 -> 4.2266667 | F62: =D62-C62+H62-G62 -> 518.4 | G62: 16.9 | H62: 51.3 | I62: =H62/G62 -> 3.035503
A63: 8 | C63: 143.4 | D63: 608.3 | E63: =D63/C63 -> 4.2419805 | F63: =D63-C63+H63-G63 -> 502 | G63: 18 | H63: 55.1 | I63: =H63/G63 -> 3.0611111
A64: 9 | C64: 139.3 | D64: 593.8 | E64: =D64/C64 -> 4.2627423 | F64: =D64-C64+H64-G64 -> 496.5 | G64: 19.6 | H64: 61.6 | I64: =H64/G64 -> 3.1428571
A65: 10 | C65: 138.2 | D65: 590.1 | E65: =D65/C65 -> 4.2698987 | F65: =D65-C65+H65-G65 -> 493.7 | G65: 19.8 | H65: 61.6 | I65: =H65/G65 -> 3.1111111
A66: 11 | C66: 127.1 | D66: 540.8 | E66: =D66/C66 -> 4.2549174 | F66: =D66-C66+H66-G66 -> 455 | G66: 19.8 | H66: 61.1 | I66: =H66/G66 -> 3.0858586
...

Sheet Keskilämpötilat
A1: EET | B1: KeskilämpötilaC | C1: viikko
A2: 41791 | B2: 11 | C2: =WEEKNUM(A2,21) -> 22 | G2: Vko | H2: Vko keskil.
A3: 41792 | B3: 13 | C3: =WEEKNUM(A3,21) -> 23 | D3: =C3 -> 23 | E3: =AVERAGE(B3:B9) -> 16 | F3: 2014 | G3: 23 | H3: 16
A4: 41793 | B4: 13 | C4: =WEEKNUM(A4,21) -> 23 | G4: 24 | H4: 12.714286
A5: 41794 | B5: 19 | C5: =WEEKNUM(A5,21) -> 23 | G5: 25 | H5: 9
A6: 41795 | B6: 20 | C6: =WEEKNUM(A6,21) -> 23 | G6: 26 | H6: 10.857143
A7: 41796 | B7: 18 | C7: =WEEKNUM(A7,21) -> 23 | G7: 27 | H7: 14
A8: 41797 | B8: 15 | C8: =WEEKNUM(A8,21) -> 23 | G8: 28 | H8: 18
A9: 41798 | B9: 14 | C9: =WEEKNUM(A9,21) -> 23 | G9: 29 | H9: 18.714286
A10: 41799 | B10: 15 | C10: =WEEKNUM(A10,21) -> 24 | D10: =C10 -> 24 | E10: =AVERAGE(B10:B16) -> 12.714286 | G10: 30 | H10: 21.142857
A11: 41800 | B11: 13 | C11: =WEEKNUM(A11,21) -> 24 | G11: 31 | H11: 20.571429
A12: 41801 | B12: 14 | C12: =WEEKNUM(A12,21) -> 24 | G12: 32 | H12: 21.142857
A13: 41802 | B13: 13 | C13: =WEEKNUM(A13,21) -> 24 | G13: 33 | H13: 15.285714
A14: 41803 | B14: 13 | C14: =WEEKNUM(A14,21) -> 24 | G14: 34 | H14: 13.142857
A15: 41804 | B15: 10 | C15: =WEEKNUM(A15,21) -> 24 | G15: 35 | H15: 11.714286
A16: 41805 | B16: 11 | C16: =WEEKNUM(A16,21) -> 24 | G16: 36 | H16: 13.285714
A17: 41806 | B17: 10 | C17: =WEEKNUM(A17,21) -> 25 | D17: =C17 -> 25 | E17: =AVERAGE(B17:B23) -> 9 | G17: 37 | H17: 12.142857
A18: 41807 | B18: 7 | C18: =WEEKNUM(A18,21) -> 25 | G18: 38 | H18: 10.857143
A19: 41808 | B19: 11 | C19: =WEEKNUM(A19,21) -> 25 | G19: 39 | H19: 7.5714286
A20: 41809 | B20: 12 | C20: =WEEKNUM(A20,21) -> 25 | G20: 40 | H20: 7.4285714
A21: 41810 | B21: 8 | C21: =WEEKNUM(A21,21) -> 25 | G21: 41 | H21: 8
A22: 41811 | B22: 8 | C22: =WEEKNUM(A22,21) -> 25 | G22: 42 | H22: 2
A23: 41812 | B23: 7 | C23: =WEEKNUM(A23,21) -> 25 | G23: 43 | H23: 0.42857143
A24: 41813 | B24: 9 | C24: =WEEKNUM(A24,21) -> 26 | D24: =C24 -> 26 | E24: =AVERAGE(B24:B30) -> 10.857143 | G24: 44 | H24: 4.7142857
A25: 41814 | B25: 11 | C25: =WEEKNUM(A25,21) -> 26 | G25: 45 | H25: 2.1428571
A26: 41815 | B26: 11 | C26: =WEEKNUM(A26,21) -> 26 | G26: 46 | H26: 1.5714286
A27: 41816 | B27: 12 | C27: =WEEKNUM(A27,21) -> 26 | G27: 47 | H27: -1.2857143
A28: 41817 | B28: 11 | C28: =WEEKNUM(A28,21) -> 26 | G28: 48 | H28: 1.1428571
A29: 41818 | B29: 11 | C29: =WEEKNUM(A29,21) -> 26 | G29: 49 | H29: -0.57142857
A30: 41819 | B30: 11 | C30: =WEEKNUM(A30,21) -> 26 | G30: 50 | H30: 1
A31: 41820 | B31: 12 | C31: =WEEKNUM(A31,21) -> 27 | D31: =C31 -> 27 | E31: =AVERAGE(B31:B37) -> 14 | G31: 51 | H31: -0.42857143
A32: 41821 | B32: 12 | C32: =WEEKNUM(A32,21) -> 27 | G32: 52 | H32: -9.5714286
A33: 41822 | B33: 11 | C33: =WEEKNUM(A33,21) -> 27 | F33: 2015 | G33: 1 | H33: -2.5714286
A34: 41823 | B34: 16 | C34: =WEEKNUM(A34,21) -> 27 | G34: 2 | H34: -7.2857143
A35: 41824 | B35: 16 | C35: =WEEKNUM(A35,21) -> 27 | G35: 3 | H35: -2.8571429
A36: 41825 | B36: 14 | C36: =WEEKNUM(A36,21) -> 27 | G36: 4 | H36: -7.2857143
A37: 41826 | B37: 17 | C37: =WEEKNUM(A37,21) -> 27 | G37: 5 | H37: -0.85714286
A38: 41827 | B38: 19 | C38: =WEEKNUM(A38,21) -> 28 | D38: =C38 -> 28 | E38: =AVERAGE(B38:B44) -> 18 | G38: 6 | H38: -3
A39: 41828 | B39: 20 | C39: =WEEKNUM(A39,21) -> 28 | G39: 7 | H39: -3
A40: 41829 | B40: 20 | C40: =WEEKNUM(A40,21) -> 28 | G40: 8 | H40: -1.4285714
...

Sheet Tehot
C2: lämmitys tuotto | G2: Lämmitys otto | K2: käyttövesi tuotto | N2: Käyttövesi otto
B3: Vko | C3: Vko keskil. | D3: kWh/vko | E3: kWh/d | F3: lämmitysteho | G3: kWh/vko | H3: kWh/d | I3: ottoteho | J3: cop | K3: kWh/vko | L3: kWh/d | M3: käyttövesi teho | N3: kWh/vko | O3: kWh/d | P3: ottoteho | Q3: cop
B4: 23 | C4: 16
B5: 24 | C5: 12.714286
B6: 25 | C6: 9
B7: 26 | C7: 10.857143
B8: 27 | C8: 14 | D8: 181 | E8: 25.857143 | F8: 1.077381 | G8: 40.4 | H8: 5.7714286 | I8: 0.24047619 | J8: =F8/I8 -> 4.480198 | K8: 39.3 | L8: 5.6142857 | M8: 0.23392857 | N8: 12.1 | O8: 1.7285714 | P8: 0.07202381 | Q8: =M8/P8 -> 3.2479339
B9: 28 | C9: 18 | D9: 0 | E9: 0 | F9: 0 | G9: 0 | H9: 0 | I9: 0 | J9: =F9/I9 -> #DIV/0! | K9: 65.1 | L9: 9.3 | M9: 0.3875 | N9: 20.2 | O9: 2.8857143 | P9: 0.1202381 | Q9: =M9/P9 -> 3.2227723
B10: 29 | C10: 18.714286 | D10: 0 | E10: 0 | F10: 0 | G10: 0 | H10: 0 | I10: 0 | J10: =F10/I10 -> #DIV/0! | K10: 57.9 | L10: 8.2714286 | M10: 0.34464286 | N10: 18.2 | O10: 2.6 | P10: 0.10833333 | Q10: =M10/P10 -> 3.1813187
B11: 30 | C11: 21.142857 | D11: 0 | E11: 0 | F11: 0 | G11: 0 | H11: 0 | I11: 0 | J11: =F11/I11 -> #DIV/0! | K11: 45.2 | L11: 6.4571429 | M11: 0.26904762 | N11: 13.9 | O11: 1.9857143 | P11: 0.082738095 | Q11: =M11/P11 -> 3.2517986
B12: 31 | C12: 20.571429 | D12: 0 | E12: 0 | F12: 0 | G12: 0 | H12: 0 | I12: 0 | J12: =F12/I12 -> #DIV/0! | K12: 46 | L12: 6.5714286 | M12: 0.27380952 | N12: 14.2 | O12: 2.0285714 | P12: 0.08452381 | Q12: =M12/P12 -> 3.2394366
B13: 32 | C13: 21.142857 | D13: 0 | E13: 0 | F13: 0 | G13: 0 | H13: 0 | I13: 0 | J13: =F13/I13 -> #DIV/0! | K13: 37.3 | L13: 5.3285714 | M13: 0.22202381 | N13: 11.5 | O13: 1.6428571 | P13: 0.068452381 | Q13: =M13/P13 -> 3.2434783
B14: 33 | C14: 15.285714 | D14: 74.7 | E14: 10.671429 | F14: 0.44464286 | G14: 16.2 | H14: 2.3142857 | I14: 0.096428571 | J14: =F14/I14 -> 4.6111111 | K14: 39 | L14: 5.5714286 | M14: 0.23214286 | N14: 12.3 | O14: 1.7571429 | P14: 0.073214286 | Q14: =M14/P14 -> 3.1707317
B15: 34 | C15: 13.142857 | D15: 151.2 | E15: 21.6 | F15: 0.9 | G15: 33.2 | H15: 4.7428571 | I15: 0.19761905 | J15: =F15/I15 -> 4.5542169 | K15: 37.7 | L15: 5.3857143 | M15: 0.22440476 | N15: 12.1 | O15: 1.7285714 | P15: 0.07202381 | Q15: =M15/P15 -> 3.1157025
B16: 35 | C16: 11.714286 | D16: 197 | E16: 28.142857 | F16: 1.172619 | G16: 44 | H16: 6.2857143 | I16: 0.26190476 | J16: =F16/I16 -> 4.4772727 | K16: 50.1 | L16: 7.1571429 | M16: 0.29821429 | N16: 15.9 | O16: 2.2714286 | P16: 0.094642857 | Q16: =M16/P16 -> 3.1509434
B17: 36 | C17: 13.285714 | D17: 157.9 | E17: 22.557143 | F17: 0.93988095 | G17: 35.2 | H17: 5.0285714 | I17: 0.20952381 | J17: =F17/I17 -> 4.4857955 | K17: 47.2 | L17: 6.7428571 | M17: 0.28095238 | N17: 15.3 | O17: 2.1857143 | P17: 0.091071429 | Q17: =M17/P17 -> 3.0849673
B18: 37 | C18: 12.142857 | D18: 166.9 | E18: 23.842857 | F18: 0.99345238 | G18: 35.7 | H18: 5.1 | I18: 0.2125 | J18: =F18/I18 -> 4.67507 | K18: 50.5 | L18: 7.2142857 | M18: 0.30059524 | N18: 16.5 | O18: 2.3571429 | P18: 0.098214286 | Q18: =M18/P18 -> 3.0606061
B19: 38 | C19: 10.857143 | D19: 221.8 | E19: 31.685714 | F19: 1.3202381 | G19: 50 | H19: 7.1428571 | I19: 0.29761905 | J19: =F19/I19 -> 4.436 | K19: 41.5 | L19: 5.9285714 | M19: 0.24702381 | N19: 13.4 | O19: 1.9142857 | P19: 0.079761905 | Q19: =M19/P19 -> 3.0970149
... B85: 52 | C85: 1 | D85: 607.8 | E85: 86.828571 | F85: 3.6178571 | G85: 137.6 | H85: 19.657143 | I85: 0.81904762 | J85: =F85/I85 -> 4.4171512 | K85: 49.4 | L85: 7.0571429 | M85: 0.29404762 | N85: 15.9 | O85: 2.2714286 | P85: 0.094642857 | Q85: =M85/P85 -> 3.1069182
B86: 53 | C86: =Keskilämpötilat!H85 -> -8 | D86: 800 | E86: =D86/7 -> 114.28571 | F86: =E86/24 -> 4.7619048 | G86: 193 | H86: =G86/7 -> 27.571429 | I86: =H86/24 -> 1.1488095 | J86: =D86/G86 -> 4.1450777 | K86: 50 | L86: =K86/7 -> 7.1428571 | M86: =L86/24 -> 0.29761905 | N86: 16.7 | O86: =N86/7 -> 2.3857143 | P86: =O86/24 -> 0.099404762 | Q86: =K86/N86 -> 2.994012
B87: 1 | C87: -20.285714 | D87: 1085.7 | E87: 155.1 | F87: 6.4625 | G87: 271.7 | H87: 38.814286 | I87: 1.6172619 | J87: =F87/I87 -> 3.9959514 | K87: 52.7 | L87: 7.5285714 | M87: 0.31369048 | N87: 17.8 | O87: 2.5428571 | P87: 0.10595238 | Q87: =M87/P87 -> 2.9606742
B88: 2 | C88: -13.428571 | D88: 851.8 | E88: 121.68571 | F88: 5.0702381 | G88: 200.6 | H88: 28.657143 | I88: 1.1940476 | J88: =F88/I88 -> 4.2462612 | K88: 52.2 | L88: 7.4571429 | M88: 0.31071429 | N88: 17.1 | O88: 2.4428571 | P88: 0.10178571 | Q88: =M88/P88 -> 3.0526316
B89: 3 | C89: -15.714286 | D89: 881.4 | E89: 125.91429 | F89: 5.2464286 | G89: 211.4 | H89: 30.2 | I89: 1.2583333 | J89: =F89/I89 -> 4.1693472 | K89: 57.5 | L89: 8.2142857 | M89: 0.3422619 | N89: 18.8 | O89: 2.6857143 | P89: 0.11190476 | Q89: =M89/P89 -> 3.0585106
B90: ='MLP tuotot & kulutukset'!A112 -> 4 | C90: =Keskilämpötilat!H89 -> 0 | D90: ='MLP tuotot & kulutukset'!D112 -> 505.7 | E90: =D90/7 -> 72.242857 | F90: =E90/24 -> 3.010119 | G90: ='MLP tuotot & kulutukset'!C112 -> 110.6 | H90: =G90/7 -> 15.8 | I90: =H90/24 -> 0.65833333 | J90: =D90/G90 -> 4.5723327 | K90: ='MLP tuotot & kulutukset'!H112 -> 49 | L90: =K90/7 -> 7 | M90: =L90/24 -> 0.29166667 | N90: ='MLP tuotot & kulutukset'!G112 -> 15.6 | O90: =N90/7 -> 2.2285714 | P90: =O90/24 -> 0.092857143 | Q90: =K90/N90 -> 3.1410256

Sheet Graafit
