Workbook

Sheet Kaivon syvyys
F2: Kaivon syvyyden laskenta
H5: tehot (kWh) | I5: dT (K) | J5: n teho (kWh) | K5: antoteho (kWh) | L5: COP
G6: logiikka + pumput | H6: 0.13 | O6: Putkiston ominaisuudet ja tilavuudet
G7: vastus | H7: 8.95 | I7: 5.9 | J7: =H7-H6 -> 8.82 | O7: putken ulkohalkaisija | Q7: 40 | R7: mm
G8: komp. käy | H8: 2.08 | I8: 7 | J8: =H8-H6 -> 1.95 | K8: =J7/I7*I8 -> 10.464407 | L8: =K8/H8 -> 5.0309648 | O8: seinämän vahvuus | Q8: 2.4 | R8: mm
G9: kaivo | I9: 4.8 | J9: =K8-H8 -> 8.3844068 | O9: sisähalkaisija | Q9: =Q7-2*Q8 -> 35.2 | R9: mm
O10: Putken tilavuus | Q10: =PI()*(Q9/2)^2/1000 -> 0.97313974 | R10: l/m
H11: virtaus (m3/h) | I11: (l/s) | J11: Nopeus (m/s) | K11: Reynolds | O11: tilavuus koneessa | Q11: 6 | R11: l
G12: Keruu | H12: =$J$9*1000*3.6/$I$9/$K$19/($K$20/1000) -> 1543.3914 | I12: =H12/3600 -> 0.42871984 | J12: =(H12/1000)/(3600*PI()*(Q9/1000/2)^2) -> 0.44055321 | K12: =K20*J12*(Q9/1000)/K21 -> 2775.2633 | O12: muun putkiston tilavuus | Q12: 5 | R12: l
O13: siirtoputken pituus | Q13: 7 | R13: m
G14: Kierroksen kesto | H14: (min) | I14: tilavuus (l) | L14: Kaivon syvyys (m)
G15: Keskeltä | H15: 17.25 | I15: =$H$12/60*H15 -> 443.72503 | J15: ---------> | L15: =((I15-$Q$13-$Q$11)/$Q$10-$Q$12)/2 -> 218.80688
G16: Alusta | H16: 15.25 | I16: =$H$12/60*H16 -> 392.27865 | J16: ---------> | L16: =((I16-$Q$13-$Q$11)/$Q$10-$Q$12)/2 -> 192.37368
G18: Maawiinan ominaisuudet
G19: 28 p-% ominaislämpökapasiteetti@ 2 °C | K19: 4.216 | L19: kJ/(K x kg) | M19: Liuoksen keskilämpötila pulssin aikana
G20: 28 p-% tiheys @ 3 °C | K20: 966.4 | L20: kg/m3 | M20: Liuoksen keskilämpötila koko kaivossa
G21: 28 p-% dynaaminen viskositeetti @ 3 °C | K21: 0.0054 | L21: pas | M21: Liuoksen keskilämpötila koko kaivossa
B24: alusta | C24: 0.00086805556 | G24: 3 min pulssi | L24: 0.011458333 | Q24: väli | R24: =L24-C24 -> 0.010590278
B27: keskeltä | C27: 0.0010416667 | D27: =(C27+E27)/2 -> 0.0020833333 | E27: 0.003125 | M27: 0.013020833 | N27: =(M27+O27)/2 -> 0.013628472 | O27: 0.014236111 | Q27: väli | R27: =O27-D27 -> 0.012152778
B29: alusta | C29: 0.00086805556 | G29: 5 min pulssi | L29: 0.011458333 | Q29: väli | R29: =L29-C29 -> 0.010590278
B31: keskeltä | C31: 0.0010416667 | D31: =(E31+C31)/2 -> 0.0027777778 | E31: 0.0045138889 | M31: 0.013715278 | N31: =(M31+O31)/2 -> 0.014670139 | O31: 0.015625 | Q31: väli | R31: =N31-D31 -> 0.011892361
B34: Keruupuolen mittaukset 15s välein
B35: tulo | C35: meno | D35: aika | E35: tulo | F35: meno
B36: 3.9 | C36: 3.9 | D36: 0 | E36: 3.7 | F36: 3.8
B37: 3.9 | C37: 3.9 | D37: 0.00017361111 | E37: 3.7 | F37: 3.8
B38: 3.9 | C38: 3.9 | D38: 0.00034722222 | E38: 3.7 | F38: 3.8
B39: 3.9 | C39: 3.9 | D39: 0.00052083333 | E39: 3.7 | F39: 3.8
B40: 3.9 | C40: 3.9 | D40: 0.00069444444 | E40: 3.7 | F40: 3.8
B41: 3.9 | C41: 1.8 | D41: 0.00086805556 | E41: 3.7 | F41: 0.8
B42: 3.9 | C42: -0.1 | D42: 0.0010416667 | E42: 3.7 | F42: -1.2
B43: 3.9 | C43: -0.5 | D43: 0.0012152778 | E43: 3.7 | F43: -1.7
B44: 3.9 | C44: -1.4 | D44: 0.0013888889 | E44: 3.7 | F44: -1.4
B45: 3.9 | C45: -1.1 | D45: 0.0015625 | E45: 3.7 | F45: -0.6
B46: 3.9 | C46: -0.7 | D46: 0.0017361111 | E46: 3.7 | F46: -0.8
B47: 3.9 | C47: -0.7 | D47: 0.0019097222 | E47: 3.7 | F47: -1
B48: 3.9 | C48: -1 | D48: 0.0020833333 | E48: 3.7 | F48: -1
B49: 3.9 | C49: -1.1 | D49: 0.0022569444 | E49: 3.7 | F49: -1.1 | H49: eka | I49: ka | J49: =AVERAGE(F47:F61) -> -1.0733333
B50: 3.9 | C50: -1.1 | D50: 0.0024305556 | E50: 3.7 | F50: -1.2 | I50: erotus | J50: =E50-J49 -> 4.7733333
B51: 3.9 | C51: -1.2 | D51: 0.0026041667 | E51: 3.7 | F51: -1 | H51: toka | I51: ka | J51: =AVERAGE(C48:C52) -> -1.12
B52: 3.9 | C52: -1.2 | D52: 0.0027777778 | E52: 3.7 | F52: -1.3 | I52: erotus | J52: =C58-J51 -> 4.92
...

Sheet Maawiinan ominaisuudet
C2: Lämpötila
C3: -10 | D3: -9 | E3: -8 | F3: -7 | G3: -6 | H3: -5 | I3: -4 | J3: -3 | K3: -2 | L3: -1 | M3: 0 | N3: 1 | O3: 2 | P3: 3 | Q3: 4 | R3: 5 | S3: 6 | T3: 7 | U3: 8 | V3: 9 | W3: 10
B4: viskositeetti | C4: 0.011758789 | D4: 0.0111072 | E4: 0.0104833 | F4: 0.0098868 | G4: 0.0093177 | H4: 0.008776 | I4: 0.0082617 | J4: 0.0077748 | K4: 0.0073153 | L4: 0.0068832 | M4: 0.0064785026 | N4: 0.0061012 | O4: 0.0057513 | P4: 0.0054288 | Q4: 0.0051337 | R4: 0.004866 | S4: 0.0046257 | T4: 0.0044128 | U4: 0.0042273 | V4: 0.0040692 | W4: 0.0039383226 | X4: pas
B5: tiheys | C5: 971.69902 | D5: 970.957 | E5: 970.608 | F5: 970.253 | G5: 969.892 | H5: 969.525 | I5: 969.152 | J5: 968.773 | K5: 968.388 | L5: 967.997 | M5: 967.59845 | N5: 967.197 | O5: 966.788 | P5: 966.373 | Q5: 965.952 | R5: 965.525 | S5: 965.092 | T5: 964.653 | U5: 964.208 | V5: 963.757 | W5: 962.80468 | X5: kg/m3
B6: ominaislämpökapasitetti | C6: 4.1744145 | D6: 4.17931 | E6: 4.18374 | F6: 4.18799 | G6: 4.19206 | H6: 4.19595 | I6: 4.19966 | J6: 4.20319 | K6: 4.20654 | L6: 4.20971 | M6: 4.2127313 | N6: 4.21551 | O6: 4.21814 | P6: 4.22059 | Q6: 4.22286 | R6: 4.22495 | S6: 4.22686 | T6: 4.22859 | U6: 4.23014 | V6: 4.23151 | W6: 4.2327519 | X6: kJ/(K x kg)
B8: Reynoldsin numero | C8: ='Maawiinan ominaisuudet'!C$5*'Kaivon syvyys'!$J$12*('Kaivon syvyys'!$Q$9/1000)/C$4 -> 1281.4752 | D8: ='Maawiinan ominaisuudet'!D$5*'Kaivon syvyys'!$J$12*('Kaivon syvyys'!$Q$9/1000)/D$4 -> 1355.6152 | E8: ='Maawiinan ominaisuudet'!E$5*'Kaivon syvyys'!$J$12*('Kaivon syvyys'!$Q$9/1000)/E$4 -> 1435.7767 | F8: ='Maawiinan ominaisuudet'!F$5*'Kaivon syvyys'!$J$12*('Kaivon syvyys'!$Q$9/1000)/F$4 -> 1521.8445 | G8: ='Maawiinan ominaisuudet'!G$5*'Kaivon syvyys'!$J$12*('Kaivon syvyys'!$Q$9/1000)/G$4 -> 1614.1939 | H8: ='Maawiinan ominaisuudet'!H$5*'Kaivon syvyys'!$J$12*('Kaivon syvyys'!$Q$9/1000)/H$4 -> 1713.1817 | I8: ='Maawiinan ominaisuudet'!I$5*'Kaivon syvyys'!$J$12*('Kaivon syvyys'!$Q$9/1000)/I$4 -> 1819.1291 | J8: ='Maawiinan ominaisuudet'!J$5*'Kaivon syvyys'!$J$12*('Kaivon syvyys'!$Q$9/1000)/J$4 -> 1932.2968 | ... W8: ='Maawiinan ominaisuudet'!W$5*'Kaivon syvyys'!$J$12*('Kaivon syvyys'!$Q$9/1000)/W$4 -> 3791.1236
B9: kaivon virtaamalla
C22: 0.15 | D22: 0.2 | E22: 0.25 | F22: 0.3 | G22: 0.35 | H22: 0.4 | I22: 0.45 | J22: 0.5 | K22: 0.55 | L22: 0.6 | M22: 0.65 | N22: 0.7 | O22: 0.75 | P22: 0.8 | Q22: 0.85 | R22: l/s
C23: =C22*3600 -> 540 | D23: =D22*3600 -> 720 | E23: =E22*3600 -> 900 | F23: =F22*3600 -> 1080 | G23: =G22*3600 -> 1260 | H23: =H22*3600 -> 1440 | I23: =I22*3600 -> 1620 | J23: =J22*3600 -> 1800 | ... Q23: =Q22*3600 -> 3060 | R23: m3/h
C24: =$M$5*(C$23/1000)/(3600*PI()*('Kaivon syvyys'!$Q$9/1000/2)^2)*('Kaivon syvyys'!$Q$9/1000)/$M$4 -> 810.36233 | D24: =$L$5*(D$23/1000)/(3600*PI()*('Kaivon syvyys'!$Q$9/1000/2)^2)*('Kaivon syvyys'!$Q$9/1000)/$L$4 -> 1017.375 | E24: =$L$5*(E$23/1000)/(3600*PI()*('Kaivon syvyys'!$Q$9/1000/2)^2)*('Kaivon syvyys'!$Q$9/1000)/$L$4 -> 1271.7188 | F24: =$L$5*(F$23/1000)/(3600*PI()*('Kaivon syvyys'!$Q$9/1000/2)^2)*('Kaivon syvyys'!$Q$9/1000)/$L$4 -> 1526.0625 | G24: =$L$5*(G$23/1000)/(3600*PI()*('Kaivon syvyys'!$Q$9/1000/2)^2)*('Kaivon syvyys'!$Q$9/1000)/$L$4 -> 1780.4063 | H24: =$L$5*(H$23/1000)/(3600*PI()*('Kaivon syvyys'!$Q$9/1000/2)^2)*('Kaivon syvyys'!$Q$9/1000)/$L$4 -> 2034.7501 | I24: =$L$5*(I$23/1000)/(3600*PI()*('Kaivon syvyys'!$Q$9/1000/2)^2)*('Kaivon syvyys'!$Q$9/1000)/$L$4 -> 2289.0938 | J24: =$L$5*(J$23/1000)/(3600*PI()*('Kaivon syvyys'!$Q$9/1000/2)^2)*('Kaivon syvyys'!$Q$9/1000)/$L$4 -> 2543.4376 | K24: =$L$5*(K$23/1000)/(3600*PI()*('Kaivon syvyys'!$Q$9/1000/2)^2)*('Kaivon syvyys'!$Q$9/1000)/$L$4 -> 2797.7813 | ... Q24: =$L$5*(Q$23/1000)/(3600*PI()*('Kaivon syvyys'!$Q$9/1000/2)^2)*('Kaivon syvyys'!$Q$9/1000)/$L$4 -> 4323.8439 | R24: Re
B26: Reynoldsin numero @ 0 C
B27: valitulla putkikoolla
