Workbook

Sheet Sisäinen häviö + höyrystin
B2: Painehäviö höyrystimessä B25, 40 levyinen 28% etanoli
A4: virtaus | B4: l/h
A5: 0 | B5: 200 | C5: 400 | D5: 600 | E5: 800 | F5: 1000 | G5: 1200 | H5: 1400 | I5: 1600 | J5: 1800 | K5: 2000 | L5: 2200 | M5: 2400 | N5: 2600 | O5: 2800 | P5: 3000 | Q5: 3200 | R5: 3400 | S5: 3600 | T5: 3800 | U5: 4000 | V5: l/h
A6: massavirta kg/s
A7: =A5*0.9676/3600 -> 0 | B7: =B5*0.9676/3600 -> 0.053755556 | C7: =C5*0.9676/3600 -> 0.10751111 | D7: =D5*0.9676/3600 -> 0.16126667 | E7: =E5*0.9676/3600 -> 0.21502222 | F7: =F5*0.9676/3600 -> 0.26877778 | G7: =G5*0.9676/3600 -> 0.32253333 | H7: =H5*0.9676/3600 -> 0.37628889 | ... U7: =U5*0.9676/3600 -> 1.0751111 | V7: kg/s
A8: magna geo 25-100 nostokorkeus 0,1 m H2O
A9: 0 | B9: 200 | C9: 400 | D9: 600 | E9: 800 | F9: 1000 | G9: 1200 | H9: 1400 | I9: 1600 | J9: 1800 | K9: 2000 | L9: 2200 | M9: 2400 | N9: 2600 | O9: 2800 | P9: 3000 | V9: l/h
A10: 110 | B10: 110 | C10: 110 | D10: 111 | E10: 111 | F10: 112 | G10: 112 | H10: 113 | I10: 110 | J10: 106 | K10: 104 | L10: 102 | M10: 100 | N10: 99 | O10: 95 | P10: 92 | V10: kPa
A11: nibe käytettävissä oleva paine
A12: 0 | B12: 200 | C12: 400 | D12: 600 | E12: 800 | F12: 1000 | G12: 1200 | H12: 1400 | I12: 1600 | J12: 1800 | K12: 2000 | L12: 2200 | M12: 2400 | N12: 2600 | O12: 2800 | P12: 3000 | V12: l/h
A13: 110 | B13: 101 | C13: 100.5 | D13: 100.5 | E13: 100 | F13: 100 | G13: 99 | H13: 98 | I13: 93 | J13: 86.5 | K13: 82.5 | L13: 77.5 | M13: 70 | N13: 64 | O13: 53 | P13: 45 | V13: kPa
A14: nibe 10kW höyrystin + sisäinen painehäviö kPa
A15: 0 | B15: 200 | C15: 400 | D15: 600 | E15: 800 | F15: 1000 | G15: 1200 | H15: 1400 | I15: 1600 | J15: 1800 | K15: 2000 | L15: 2200 | M15: 2400 | N15: 2600 | O15: 2800 | P15: 3000 | V15: l/h
A16: 0 | B16: =B10*9.81/10-B13 -> 6.91 | C16: =C10*9.81/10-C13 -> 7.41 | D16: =D10*9.81/10-D13 -> 8.391 | E16: =E10*9.81/10-E13 -> 8.891 | F16: =F10*9.81/10-F13 -> 9.872 | G16: =G10*9.81/10-G13 -> 10.872 | H16: =H10*9.81/10-H13 -> 12.853 | I16: =I10*9.81/10-I13 -> 14.91 | ... P16: =P10*9.81/10-P13 -> 45.252 | V16: kPa
A17: höyrystin painehäviö 50*12*12cm kPa (44 levyinen)
A18: 0 | B18: 200 | C18: 400 | D18: 600 | E18: 800 | F18: 1000 | G18: 1200 | H18: 1400 | I18: 1600 | J18: 1800 | K18: 2000 | L18: 2200 | M18: 2400 | N18: 2600 | O18: 2800 | P18: 3000 | V18: l/h
A19: 0 | B19: 0.5 | C19: 1.2 | D19: 2.1 | E19: 3.2 | F19: 4.5 | G19: 5.9 | H19: 7.4 | I19: 9.2 | J19: 11.2 | K19: 13.4 | L19: 15.7 | M19: 18.2 | N19: 20.8 | O19: 23.6 | P19: 26.4 | V19: kPa
A20: höyrystin 50x12x15cm 62 levyinen
A21: 0 | B21: 200 | C21: 400 | D21: 600 | E21: 800 | F21: 1000 | G21: 1200 | H21: 1400 | I21: 1600 | J21: 1800 | K21: 2000 | L21: 2200 | M21: 2400 | N21: 2600 | O21: 2800 | P21: 3000 | Q21: 3200 | R21: 3400 | S21: 3600 | T21: 3800 | U21: 4000 | V21: l/h
A22: 0 | B22: 0.37628889 | C22: 0.6515 | D22: 1.166 | E22: 1.808 | F22: 2.542 | G22: 3.36 | H22: 4.238 | I22: 5.2 | J22: 6.24 | K22: 7.34 | L22: 8.48 | M22: 9.7 | N22: 11 | O22: 12.4 | P22: 13.9 | Q22: 15.5 | R22: 17.2 | S22: 19 | T22: 20.8 | U22: 22.7 | V22: kPa
H24: Valittu sisäinen häviö
A25: Arvio koneen sisäisestä häviöstä | H25: 44-levyinen + sisäinen häviö | L25: 0 | M25: kpl
H26: 62-levyinen + sisäinen häviö | L26: 1 | M26: kpl
B27: 28mm Cu/letku | D27: 2 | E27: m | H27: 10 kW Niben sisäinen häviö | L27: 0 | M27: kpl
B28: 90° kulmia | D28: 6 | E28: kpl | F28: 0.829
B29: 45° kulmia | D29: 1 | E29: kpl | F29: 0.592
B30: yhteensä | D30: =F28*D28+F29*D29+D27 -> 7.566 | E30: m
A32: sisäinen häviö
A33: 0 | B33: 200 | C33: 400 | D33: 600 | E33: 800 | F33: 1000 | G33: 1200 | H33: 1400 | I33: 1600 | J33: 1800 | K33: 2000 | L33: 2200 | M33: 2400 | N33: 2600 | O33: 2800 | P33: 3000 | Q33: 3200 | R33: 3400 | S33: 3600 | T33: 3800 | U33: 4000 | V33: l/h
A34: =$D$30/10*Yhdysputkisto!F$10 -> 0 | B34: =$D$30/10*Yhdysputkisto!G$10 -> 0.242112 | C34: =$D$30/10*Yhdysputkisto!H$10 -> 0.484224 | D34: =$D$30/10*Yhdysputkisto!I$10 -> 0.726336 | E34: =$D$30/10*Yhdysputkisto!J$10 -> 0.976014 | F34: =$D$30/10*Yhdysputkisto!K$10 -> 1.21056 | G34: =$D$30/10*Yhdysputkisto!L$10 -> 2.72376 | H34: =$D$30/10*Yhdysputkisto!M$10 -> 3.48036 | ... U34: =$D$30/10*Yhdysputkisto!Z$10 -> 21.1848 | V34: kPa
A36: yhteensä höyrystin + sisäinen häviö
A37: 0 | B37: 200 | C37: 400 | D37: 600 | E37: 800 | F37: 1000 | G37: 1200 | H37: 1400 | I37: 1600 | J37: 1800 | K37: 2000 | L37: 2200 | M37: 2400 | N37: 2600 | O37: 2800 | P37: 3000 | Q37: 3200 | R37: 3400 | S37: 3600 | T37: 3800 | U37: 4000 | V37: l/h
A38: =$L$25*A19+$L$26*A22 -> 0 | B38: =$L$25*B19+$L$26*B22 -> 0.37628889 | C38: =$L$25*C19+$L$26*C22 -> 0.6515 | D38: =$L$25*D19+$L$26*D22 -> 1.166 | E38: =$L$25*E19+$L$26*E22 -> 1.808 | F38: =$L$25*F19+$L$26*F22 -> 2.542 | G38: =$L$25*G19+$L$26*G22 -> 3.36 | H38: =$L$25*H19+$L$26*H22 -> 4.238 | ... U38: =$L$25*U19+$L$26*U22 -> 22.7 | V38: kPa
A41: Valittu sisäinen häviö
A42: 0 | B42: 200 | C42: 400 | D42: 600 | E42: 800 | F42: 1000 | G42: 1200 | H42: 1400 | I42: 1600 | J42: 1800 | K42: 2000 | L42: 2200 | M42: 2400 | N42: 2600 | O42: 2800 | P42: 3000 | Q42: 3200 | R42: 3400 | S42: 3600 | T42: 3800 | U42: 4000 | V42: l/h
A43: =IF($L$27=0,A38,A16) -> 0 | B43: =IF($L$27=0,B38,B16) -> 0.37628889 | C43: =IF($L$27=0,C38,C16) -> 0.6515 | D43: =IF($L$27=0,D38,D16) -> 1.166 | E43: =IF($L$27=0,E38,E16) -> 1.808 | F43: =IF($L$27=0,F38,F16) -> 2.542 | G43: =IF($L$27=0,G38,G16) -> 3.36 | H43: =IF($L$27=0,H38,H16) -> 4.238 | ... U43: =IF($L$27=0,U38,U16) -> 22.7 | V43: kPa

Sheet Takaiskut
A3: hela 4125 | B3: =3600*B4 -> 360 | C3: =3600*C4 -> 1080 | D3: =3600*D4 -> 1440 | E3: =3600*E4 -> 3636 | F3: =3600*F4 -> 7308 | G3: =3600*G4 -> 9468 | H3: l/h
B4: 0.1 | C4: 0.3 | D4: 0.4 | E4: 1.01 | F4: 2.03 | G4: 2.63 | H4: l/s
B5: 6.75 | C5: 9.89 | D5: 10.78 | E5: 20.85 | F5: 67.52 | G5: 114.65 | H5: kPa
A7: hela 4132 | B7: =B8*3600 -> 1512 | C7: =C8*3600 -> 4032 | D7: =D8*3600 -> 6696 | E7: =E8*3600 -> 9216 | F7: =F8*3600 -> 13104 | G7: =G8*3600 -> 17136 | H7: =H8*3600 -> 22932 | I7: l/h
B8: 0.42 | C8: 1.12 | D8: 1.86 | E8: 2.56 | F8: 3.64 | G8: 4.76 | H8: 6.37 | I8: l/s
B9: 2.3 | C9: 5.56 | D9: 9.52 | E9: 19.06 | F9: 37.65 | G9: 64.02 | H9: 113.87 | I9: kPa
C14: takaiskuventtiili
C15: hela4125 | E15: 1 | F15: kpl
C16: hela4132 | E16: 0 | F16: kpl
C25: 0 | D25: 200 | E25: 400 | F25: 600 | G25: 800 | H25: 1000 | I25: 1200 | J25: 1400 | K25: 1600 | L25: 1800 | M25: 2000 | N25: 2200 | O25: 2400 | P25: 2600 | Q25: 2800 | R25: 3000 | S25: 3200 | T25: 3400 | U25: 3600 | V25: 3800 | W25: 4000
B26: hela 4125 | C26: 0 | D26: 7.2 | E26: 7.6 | F26: 8 | G26: 8.4 | H26: 8.9 | I26: 9.5 | J26: 10 | K26: 10.7 | L26: 11.5 | M26: 12.3 | N26: 13.2 | O26: 14.2 | P26: 15.1 | Q26: 16.2 | R26: 17.4 | S26: 18.6 | T26: 20 | U26: 21.5 | V26: 23 | W26: 24.5 | X26: kPa
B27: hela 4132 | C27: 0 | D27: 2.2 | E27: 2.2 | F27: 2.3 | G27: 2.3 | H27: 2.4 | I27: 2.4 | J27: 2.5 | K27: 2.6 | L27: 2.7 | M27: 2.8 | N27: 2.8 | O27: 3 | P27: 3.2 | Q27: 3.3 | R27: 3.4 | S27: 3.7 | T27: 3.9 | U27: 4.2 | V27: 4.4 | W27: 4.6 | X27: kPa
B28: valittu | C28: =$E$15*C26+$E$16*C27 -> 0 | D28: =$E$15*D26+$E$16*D27 -> 7.2 | E28: =$E$15*E26+$E$16*E27 -> 7.6 | F28: =$E$15*F26+$E$16*F27 -> 8 | G28: =$E$15*G26+$E$16*G27 -> 8.4 | H28: =$E$15*H26+$E$16*H27 -> 8.9 | I28: =$E$15*I26+$E$16*I27 -> 9.5 | J28: =$E$15*J26+$E$16*J27 -> 10 | ... W28: =$E$15*W26+$E$16*W27 -> 24.5

Sheet Kiertopumput
D1: m H2O
D2: 0 | E2: 200 | F2: 400 | G2: 600 | H2: 800 | I2: 1000 | J2: 1200 | K2: 1400 | L2: 1600 | M2: 1800 | N2: 2000 | O2: 2200 | P2: 2400 | Q2: 2600 | R2: 2800 | S2: 3000 | T2: 3200 | U2: 3400 | V2: 3600 | W2: 3800 | X2: 4000 | Y2: l/h
A3: wilo stratos para 25-1/7 | D3: 6.7 | E3: 6.7 | F3: 6.8 | G3: 6.8 | H3: 6.8 | I3: 6.7 | J3: 6.6 | K3: 6.5 | L3: 6.4 | M3: 6.3 | N3: 5.8555556 | O3: 5.4111111 | P3: 4.9666667 | Q3: 4.5222222 | R3: 4.0777778 | S3: 3.6333333 | T3: 3.1888889 | U3: 2.7444444 | V3: 2.3
A4: wilo stratos para 25-1/8 | D4: 8 | E4: 8.0181818 | F4: 8.0363636 | G4: 8.0545455 | H4: 8.0727273 | I4: 8.0909091 | J4: 8.1090909 | K4: 8.1272727 | L4: 8.1454545 | M4: 8.1636364 | N4: 8.1818182 | O4: 8.2 | P4: 7.8666667 | Q4: 7.5333333 | R4: 7.2 | S4: 6.8666667 | T4: 6.5333333 | U4: 6.2 | V4: 5.8666667 | W4: 5.5333333 | X4: 5.2
A5: wilo stratos para 25-1/11 | D5: 11.4 | E5: 11.4 | F5: 11.3 | G5: 11.3 | H5: 11.2 | I5: 11.2 | J5: 11.2 | K5: 11.1 | L5: 11 | M5: 10.9 | N5: 10.7 | O5: 10.6 | P5: 9.9777778 | Q5: 9.3555556 | R5: 8.7333333 | S5: 8.1111111 | T5: 7.4888889 | U5: 6.8666667 | V5: 6.2444444 | W5: 5.6222222 | X5: 5
A6: wilo stratos para 25-1/12 | D6: 11.6 | E6: 11.615 | F6: 11.63 | G6: 11.645 | H6: 11.66 | I6: 11.675 | J6: 11.69 | K6: 11.705 | L6: 11.72 | M6: 11.735 | N6: 11.75 | O6: 11.765 | P6: 11.78 | Q6: 11.795 | R6: 11.81 | S6: 11.825 | T6: 11.84 | U6: 11.855 | V6: 11.87 | W6: 11.885 | X6: 11.9
A7: grundfos magna geo 25-100 | D7: 11 | E7: 11.057143 | F7: 11.114286 | G7: 11.171429 | H7: 11.228571 | I7: 11.285714 | J7: 11.342857 | K7: 11.4 | L7: 11.121795 | M7: 10.84359 | N7: 10.565385 | O7: 10.287179 | P7: 10.008974 | Q7: 9.7307692 | R7: 9.4525641 | S7: 9.174359 | T7: 8.8961538 | U7: 8.6179487 | V7: 8.3397436 | W7: 8.0615385 | X7: 7.8
A8: wilo top-rl 25/7,5 | D8: 7.5 | E8: 7.4 | F8: 7.3 | G8: 7.2 | H8: 7.1 | I8: 7 | J8: 6.86 | K8: 6.72 | L8: 6.58 | M8: 6.44 | N8: 6.3 | O8: 6.12 | P8: 5.94 | Q8: 5.76 | R8: 5.58 | S8: 5.4 | T8: 5.18 | U8: 4.96 | V8: 4.74 | W8: 4.52 | X8: 4.3
A11: 28% etanoliseoksen tiheys @ 0 °C | D11: 967.6 | E11: kg/m3
D13: kPa
A14: max painehäviö 28% etanolilla | D14: 0 | E14: 200 | F14: 400 | G14: 600 | H14: 800 | I14: 1000 | J14: 1200 | K14: 1400 | L14: 1600 | M14: 1800 | N14: 2000 | O14: 2200 | P14: 2400 | Q14: 2600 | R14: 2800 | S14: 3000 | T14: 3200 | U14: 3400 | V14: 3600 | W14: 3800 | X14: 4000 | Y14: l/h
A15: wilo stratos para 25-1/7 | D15: =9.81*$D$11*D3/1000 -> 63.597445 | E15: =9.81*$D$11*E3/1000 -> 63.597445 | F15: =9.81*$D$11*F3/1000 -> 64.546661 | G15: =9.81*$D$11*G3/1000 -> 64.546661 | H15: =9.81*$D$11*H3/1000 -> 64.546661 | I15: =9.81*$D$11*I3/1000 -> 63.597445 | J15: =9.81*$D$11*J3/1000 -> 62.64823 | K15: =9.81*$D$11*K3/1000 -> 61.699014 | ... V15: =9.81*$D$11*V3/1000 -> 21.831959
A16: wilo stratos para 25-1/8 | D16: =9.81*$D$11*D4/1000 -> 75.937248 | E16: =9.81*$D$11*E4/1000 -> 76.109833 | F16: =9.81*$D$11*F4/1000 -> 76.282417 | G16: =9.81*$D$11*G4/1000 -> 76.455002 | H16: =9.81*$D$11*H4/1000 -> 76.627587 | I16: =9.81*$D$11*I4/1000 -> 76.800171 | J16: =9.81*$D$11*J4/1000 -> 76.972756 | K16: =9.81*$D$11*K4/1000 -> 77.145341 | ... X16: =9.81*$D$11*X4/1000 -> 49.359211
A17: wilo stratos para 25-1/11 | D17: =9.81*$D$11*D5/1000 -> 108.21058 | E17: =9.81*$D$11*E5/1000 -> 108.21058 | F17: =9.81*$D$11*F5/1000 -> 107.26136 | G17: =9.81*$D$11*G5/1000 -> 107.26136 | H17: =9.81*$D$11*H5/1000 -> 106.31215 | I17: =9.81*$D$11*I5/1000 -> 106.31215 | J17: =9.81*$D$11*J5/1000 -> 106.31215 | K17: =9.81*$D$11*K5/1000 -> 105.36293 | ... X17: =9.81*$D$11*X5/1000 -> 47.46078
A18: wilo stratos para 25-1/12 | D18: =9.81*$D$11*D6/1000 -> 110.10901 | E18: =9.81*$D$11*E6/1000 -> 110.25139 | F18: =9.81*$D$11*F6/1000 -> 110.39377 | G18: =9.81*$D$11*G6/1000 -> 110.53616 | H18: =9.81*$D$11*H6/1000 -> 110.67854 | I18: =9.81*$D$11*I6/1000 -> 110.82092 | J18: =9.81*$D$11*J6/1000 -> 110.9633 | K18: =9.81*$D$11*K6/1000 -> 111.10569 | ... X18: =9.81*$D$11*X6/1000 -> 112.95666
A19: grundfos magna geo 25-100 | D19: =9.81*$D$11*D7/1000 -> 104.41372 | E19: =9.81*$D$11*E7/1000 -> 104.95612 | F19: =9.81*$D$11*F7/1000 -> 105.49853 | G19: =9.81*$D$11*G7/1000 -> 106.04094 | H19: =9.81*$D$11*H7/1000 -> 106.58335 | I19: =9.81*$D$11*I7/1000 -> 107.12576 | J19: =9.81*$D$11*J7/1000 -> 107.66817 | K19: =9.81*$D$11*K7/1000 -> 108.21058 | ... X19: =9.81*$D$11*X7/1000 -> 74.038817
A20: wilo top-rl 25/7,5 | D20: =9.81*$D$11*D8/1000 -> 71.19117 | E20: =9.81*$D$11*E8/1000 -> 70.241954 | F20: =9.81*$D$11*F8/1000 -> 69.292739 | G20: =9.81*$D$11*G8/1000 -> 68.343523 | H20: =9.81*$D$11*H8/1000 -> 67.394308 | I20: =9.81*$D$11*I8/1000 -> 66.445092 | J20: =9.81*$D$11*J8/1000 -> 65.11619 | K20: =9.81*$D$11*K8/1000 -> 63.787288 | ... X20: =9.81*$D$11*X8/1000 -> 40.816271

Sheet Kaivo
A1: Laskettu p-28% etanoliseoksen mukaan @ 0 ° C
A2: Tiheys | E2: 967.6 | F2: kg/m3
A3: dynaaminen viskositeetti | E3: 6.52 | F3: mPas
A9: Kaivo tai keruupiirin pituus/2 | F9: 189 | G9: m
A10: Siirtoputkisto | F10: 5 | G10: m
A13: Virtaus | E13: 0 | F13: 200 | G13: 400 | H13: 600 | I13: 800 | J13: 1000 | K13: 1200 | L13: 1400 | M13: 1600 | N13: 1800 | O13: 2000 | P13: 2200 | Q13: 2400 | R13: 2600 | S13: 2800 | T13: 3000 | U13: 3200 | V13: 3400 | W13: 3600 | X13: 3800 | Y13: 4000 | Z13: l/h
A14: kPa@35,2mm/100m | E14: 0 | F14: 0.9 | G14: 1.8 | H14: 2.7 | I14: 3.6 | J14: 4.5 | K14: 5.4 | L14: 6.3 | M14: 13.5 | N14: 16 | O14: 19.6 | P14: 22.5 | Q14: 24 | R14: 30 | S14: 34 | T14: 38.2 | U14: 42.7 | V14: 47.4 | W14: 52.3 | X14: 57.4 | Y14: 62.7 | Z14: kPa
A15: kPa@32,6mm/100m | E15: 0 | F15: 1.2 | G15: 2.4 | H15: 3.7 | I15: 4.9 | J15: 6.1 | K15: 7.3 | L15: 15 | M15: 18.8 | N15: 23 | O15: 27.5 | P15: 32.3 | Q15: 37.4 | R15: 43 | S15: 48.8 | T15: 54.9 | U15: 61.3 | V15: 68.1 | W15: 75 | X15: 82 | Y15: 90 | Z15: kPa
E16: 0 | F16: 100 | G16: 200 | H16: 300 | I16: 400 | J16: 500 | K16: 600 | L16: 700 | M16: 800 | N16: 900 | O16: 1000 | P16: 1100 | Q16: 1200 | R16: 1300 | S16: 1400 | T16: 1500 | U16: 1600 | V16: 1700 | W16: 1800 | X16: 1900 | Y16: 2000 | Z16: l/h
A17: kPa@35,2mm/100m | E17: 0 | F17: 0.44 | G17: 0.9 | H17: 1.35 | I17: 1.8 | J17: 2.2 | K17: 2.7 | L17: 3.1 | M17: 3.6 | N17: 4 | O17: 4.5 | P17: 4.94 | Q17: 5.4 | R17: 5.8 | S17: 6.3 | T17: 11.8 | U17: 13.5 | V17: 14.6 | W17: 16 | X17: 17.6 | Y17: 19.6 | Z17: kPa
A18: kPa@32,6mm/100m | E18: 0 | F18: 0.6 | G18: 1.2 | H18: 1.8 | I18: 2.4 | J18: 3 | K18: 3.7 | L18: 4.3 | M18: 4.9 | N18: 5.5 | O18: 6.1 | P18: 6.7 | Q18: 7.3 | R18: 7.9 | S18: 15 | T18: 16.9 | U18: 18.8 | V18: 20.9 | W18: 23 | X18: 25.2 | Y18: 27.5 | Z18: kPa
A19: kPa@27,2mm/100m | E19: 0 | F19: 1.3 | G19: 2.5 | H19: 3.8 | I19: 5 | J19: 6.3 | K19: 7.6 | L19: 8.8 | M19: 10.1 | N19: 11.4 | O19: 12.6 | P19: 12.6 | Q19: 27.1 | R19: 31 | S19: 35.1 | T19: 39.5 | U19: 44.1 | V19: 48.8 | W19: 53.82 | X19: 59 | Y19: 64.4 | Z19: kPa
A21: 2-putkinen keräin 40x2,4 | E21: =(2*$F$10+2*$F$9)/100*E14 -> 0 | F21: =(2*$F$10+2*$F$9)/100*F14 -> 3.492 | G21: =(2*$F$10+2*$F$9)/100*G14 -> 6.984 | H21: =(2*$F$10+2*$F$9)/100*H14 -> 10.476 | I21: =(2*$F$10+2*$F$9)/100*I14 -> 13.968 | J21: =(2*$F$10+2*$F$9)/100*J14 -> 17.46 | K21: =(2*$F$10+2*$F$9)/100*K14 -> 20.952 | L21: =(2*$F$10+2*$F$9)/100*L14 -> 24.444 | ... Y21: =(2*$F$10+2*$F$9)/100*Y14 -> 243.276 | Z21: kPa
A22: 2-putkinen keräin 40x3,7 | E22: =(2*$F$10+2*$F$9)/100*E15 -> 0 | F22: =(2*$F$10+2*$F$9)/100*F15 -> 4.656 | G22: =(2*$F$10+2*$F$9)/100*G15 -> 9.312 | H22: =(2*$F$10+2*$F$9)/100*H15 -> 14.356 | I22: =(2*$F$10+2*$F$9)/100*I15 -> 19.012 | J22: =(2*$F$10+2*$F$9)/100*J15 -> 23.668 | K22: =(2*$F$10+2*$F$9)/100*K15 -> 28.324 | L22: =(2*$F$10+2*$F$9)/100*L15 -> 58.2 | ... Y22: =(2*$F$10+2*$F$9)/100*Y15 -> 349.2 | Z22: kPa
A23: 3-putkinen keräin 40x2,4 | E23: =($F$10*2+$F$9)/100*E14+$F$9/100*E17 -> 0 | F23: =($F$10*2+$F$9)/100*F14+$F$9/100*F17 -> 2.6226 | G23: =($F$10*2+$F$9)/100*G14+$F$9/100*G17 -> 5.283 | H23: =($F$10*2+$F$9)/100*H14+$F$9/100*H17 -> 7.9245 | I23: =($F$10*2+$F$9)/100*I14+$F$9/100*I17 -> 10.566 | J23: =($F$10*2+$F$9)/100*J14+$F$9/100*J17 -> 13.113 | K23: =($F$10*2+$F$9)/100*K14+$F$9/100*K17 -> 15.849 | L23: =($F$10*2+$F$9)/100*L14+$F$9/100*L17 -> 18.396 | ... Y23: =($F$10*2+$F$9)/100*Y14+$F$9/100*Y17 -> 161.817 | Z23: kPa
A24: 3-putkinen keräin 40x3,7 | E24: =($F$10*2+$F$9)/100*E15+$F$9/100*E18 -> 0 | F24: =($F$10*2+$F$9)/100*F15+$F$9/100*F18 -> 3.522 | G24: =($F$10*2+$F$9)/100*G15+$F$9/100*G18 -> 7.044 | H24: =($F$10*2+$F$9)/100*H15+$F$9/100*H18 -> 10.765 | I24: =($F$10*2+$F$9)/100*I15+$F$9/100*I18 -> 14.287 | J24: =($F$10*2+$F$9)/100*J15+$F$9/100*J18 -> 17.809 | K24: =($F$10*2+$F$9)/100*K15+$F$9/100*K18 -> 21.52 | L24: =($F$10*2+$F$9)/100*L15+$F$9/100*L18 -> 37.977 | ... Y24: =($F$10*2+$F$9)/100*Y15+$F$9/100*Y18 -> 231.075 | Z24: kPa
A25: 4-putkinen keräin 40x2,4 | E25: =(2*$F$10+2*$F$9)/100*E17 -> 0 | F25: =(2*$F$10+2*$F$9)/100*F17 -> 1.7072 | G25: =(2*$F$10+2*$F$9)/100*G17 -> 3.492 | H25: =(2*$F$10+2*$F$9)/100*H17 -> 5.238 | I25: =(2*$F$10+2*$F$9)/100*I17 -> 6.984 | J25: =(2*$F$10+2*$F$9)/100*J17 -> 8.536 | K25: =(2*$F$10+2*$F$9)/100*K17 -> 10.476 | L25: =(2*$F$10+2*$F$9)/100*L17 -> 12.028 | ... Y25: =(2*$F$10+2*$F$9)/100*Y17 -> 76.048 | Z25: kPa
A26: 4-putkinen keräin 40x3,7 | E26: =(2*$F$10+2*$F$9)/100*E18 -> 0 | F26: =(2*$F$10+2*$F$9)/100*F18 -> 2.328 | G26: =(2*$F$10+2*$F$9)/100*G18 -> 4.656 | H26: =(2*$F$10+2*$F$9)/100*H18 -> 6.984 | I26: =(2*$F$10+2*$F$9)/100*I18 -> 9.312 | J26: =(2*$F$10+2*$F$9)/100*J18 -> 11.64 | K26: =(2*$F$10+2*$F$9)/100*K18 -> 14.356 | L26: =(2*$F$10+2*$F$9)/100*L18 -> 16.684 | ... Y26: =(2*$F$10+2*$F$9)/100*Y18 -> 106.7 | Z26: kPa
A27: 4-putkinen keräin 32x2,4 | E27: 0 | F27: =(2*$F$10+2*$F$9)/100*F19 -> 5.044 | G27: =(2*$F$10+2*$F$9)/100*G19 -> 9.7 | H27: =(2*$F$10+2*$F$9)/100*H19 -> 14.744 | I27: =(2*$F$10+2*$F$9)/100*I19 -> 19.4 | J27: =(2*$F$10+2*$F$9)/100*J19 -> 24.444 | K27: =(2*$F$10+2*$F$9)/100*K19 -> 29.488 | L27: =(2*$F$10+2*$F$9)/100*L19 -> 34.144 | M27: =(2*$F$10+2*$F$9)/100*M19 -> 39.188 | ... Y27: =(2*$F$10+2*$F$9)/100*Y19 -> 249.872 | Z27: kPa

Sheet Yhdysputkisto
B2: Maapiirin ja mlp liittävä putkisto
B4: 28mm Cu | C4: 3 | D4: m | H4: 35mm Cu | J4: 0 | K4: m
B5: 90° kulmia | C5: 10 | D5: kpl | E5: 0.829 | H5: 90° kulmia | J5: 0 | K5: kpl | L5: 1.121
B6: 45° kulmia | C6: 0 | D6: kpl | E6: 0.592 | H6: 45° kulmia | J6: 0 | K6: kpl | L6: 0.592
B7: yhteensä | C7: =E5*C5+E6*C6+C4 -> 11.29 | D7: m | H7: yhteensä | J7: =L5*J5+L6*J6+J4 -> 0 | K7: m
B9: 28mm cu painehäviö /10m | F9: 0 | G9: 200 | H9: 400 | I9: 600 | J9: 800 | K9: 1000 | L9: 1200 | M9: 1400 | N9: 1600 | O9: 1800 | P9: 2000 | Q9: 2200 | R9: 2400 | S9: 2600 | T9: 2800 | U9: 3000 | V9: 3200 | W9: 3400 | X9: 3600 | Y9: 3800 | Z9: 4000 | AA9: l/h
F10: 0 | G10: 0.32 | H10: 0.64 | I10: 0.96 | J10: 1.29 | K10: 1.6 | L10: 3.6 | M10: 4.6 | N10: 5.9 | O10: 7 | P10: 8.6 | Q10: 10.1 | R10: 11.7 | S10: 13.4 | T10: 15.3 | U10: 17 | V10: 19.2 | W10: 21.3 | X10: 23.5 | Y10: 25.8 | Z10: 28 | AA10: kPa
B12: 35mm cu painehäviö /10m | F12: 0 | G12: 200 | H12: 400 | I12: 600 | J12: 800 | K12: 1000 | L12: 1200 | M12: 1400 | N12: 1600 | O12: 1800 | P12: 2000 | Q12: 2200 | R12: 2400 | S12: 2600 | T12: 2800 | U12: 3000 | V12: 3200 | W12: 3400 | X12: 3600 | Y12: 3800 | Z12: 4000 | AA12: l/h
F13: 0 | G13: 0.13 | H13: 0.26 | I13: 0.39 | J13: 0.53 | K13: 0.66 | L13: 0.79 | M13: 1.64 | N13: 2.05 | O13: 2.51 | P13: 3 | Q13: 3.52 | R13: 4.1 | S13: 4.7 | T13: 5.33 | U13: 6 | V13: 6.7 | W13: 7.43 | X13: 8.2 | Y13: 9 | Z13: 9.83 | AA13: kPa
B18: putkiston painehäviö | F18: 0 | G18: 200 | H18: 400 | I18: 600 | J18: 800 | K18: 1000 | L18: 1200 | M18: 1400 | N18: 1600 | O18: 1800 | P18: 2000 | Q18: 2200 | R18: 2400 | S18: 2600 | T18: 2800 | U18: 3000 | V18: 3200 | W18: 3400 | X18: 3600 | Y18: 3800 | Z18: 4000 | AA18: l/h
B19: sis takaisku | F19: =$C$7/10*F10+$J$7/10*F13 -> 0 | G19: =$C$7/10*G10+$J$7/10*G13 -> 0.36128 | H19: =$C$7/10*H10+$J$7/10*H13 -> 0.72256 | I19: =$C$7/10*I10+$J$7/10*I13 -> 1.08384 | J19: =$C$7/10*J10+$J$7/10*J13 -> 1.45641 | K19: =$C$7/10*K10+$J$7/10*K13 -> 1.8064 | L19: =$C$7/10*L10+$J$7/10*L13 -> 4.0644 | M19: =$C$7/10*M10+$J$7/10*M13 -> 5.1934 | ... Z19: =$C$7/10*Z10+$J$7/10*Z13 -> 31.612 | AA19: kPa

Sheet Kokonaispainehäviö
A1: Painehäviö yhteensä | D1: 0 | E1: 200 | F1: 400 | G1: 600 | H1: 800 | I1: 1000 | J1: 1200 | K1: 1400 | L1: 1600 | M1: 1800 | N1: 2000 | O1: 2200 | P1: 2400 | Q1: 2600 | R1: 2800 | S1: 3000 | T1: 3200 | U1: 3400 | V1: 3600 | W1: 3800 | X1: 4000 | Y1: l/h
A2: höyrystin+sisäinen häviö | D2: ='Sisäinen häviö + höyrystin'!A43 -> 0 | E2: ='Sisäinen häviö + höyrystin'!B38 -> 0.37628889 | F2: ='Sisäinen häviö + höyrystin'!C38 -> 0.6515 | G2: ='Sisäinen häviö + höyrystin'!D38 -> 1.166 | H2: ='Sisäinen häviö + höyrystin'!E38 -> 1.808 | I2: ='Sisäinen häviö + höyrystin'!F38 -> 2.542 | J2: ='Sisäinen häviö + höyrystin'!G38 -> 3.36 | K2: ='Sisäinen häviö + höyrystin'!H38 -> 4.238 | L2: ='Sisäinen häviö + höyrystin'!I38 -> 5.2 | ... X2: ='Sisäinen häviö + höyrystin'!U38 -> 22.7
A3: =Yhdysputkisto!B18 -> putkiston painehäviö | D3: =Yhdysputkisto!F19 -> 0 | E3: =Yhdysputkisto!G19 -> 0.36128 | F3: =Yhdysputkisto!H19 -> 0.72256 | G3: =Yhdysputkisto!I19 -> 1.08384 | H3: =Yhdysputkisto!J19 -> 1.45641 | I3: =Yhdysputkisto!K19 -> 1.8064 | J3: =Yhdysputkisto!L19 -> 4.0644 | K3: =Yhdysputkisto!M19 -> 5.1934 | ... X3: =Yhdysputkisto!Z19 -> 31.612
A4: takaisku | D4: =Takaiskut!C28 -> 0 | E4: =Takaiskut!D28 -> 7.2 | F4: =Takaiskut!E28 -> 7.6 | G4: =Takaiskut!F28 -> 8 | H4: =Takaiskut!G28 -> 8.4 | I4: =Takaiskut!H28 -> 8.9 | J4: =Takaiskut!I28 -> 9.5 | K4: =Takaiskut!J28 -> 10 | ... X4: =Takaiskut!W28 -> 24.5
A5: yhteensä | D5: =SUM(D2:D4) -> 0 | E5: =SUM(E2:E4) -> 7.9375689 | F5: =SUM(F2:F4) -> 8.97406 | G5: =SUM(G2:G4) -> 10.24984 | H5: =SUM(H2:H4) -> 11.66441 | I5: =SUM(I2:I4) -> 13.2484 | J5: =SUM(J2:J4) -> 16.9244 | K5: =SUM(K2:K4) -> 19.4314 | ... X5: =SUM(X2:X4) -> 78.812
A7: eri kollektorien kanssa | D7: 0 | E7: 200 | F7: 400 | G7: 600 | H7: 800 | I7: 1000 | J7: 1200 | K7: 1400 | L7: 1600 | M7: 1800 | N7: 2000 | O7: 2200 | P7: 2400 | Q7: 2600 | R7: 2800 | S7: 3000 | T7: 3200 | U7: 3400 | V7: 3600 | W7: 3800 | X7: 4000 | Y7: l/h
A8: =Kaivo!A21 -> 2-putkinen keräin 40x2,4 | D8: =D$5+Kaivo!E21 -> 0 | E8: =E$5+Kaivo!F21 -> 11.429569 | F8: =F$5+Kaivo!G21 -> 15.95806 | G8: =G$5+Kaivo!H21 -> 20.72584 | H8: =H$5+Kaivo!I21 -> 25.63241 | I8: =I$5+Kaivo!J21 -> 30.7084 | J8: =J$5+Kaivo!K21 -> 37.8764 | K8: =K$5+Kaivo!L21 -> 43.8754 | ... X8: =X$5+Kaivo!Y21 -> 322.088
A9: =Kaivo!A22 -> 2-putkinen keräin 40x3,7 | D9: =D$5+Kaivo!E22 -> 0 | E9: =E$5+Kaivo!F22 -> 12.593569 | F9: =F$5+Kaivo!G22 -> 18.28606 | G9: =G$5+Kaivo!H22 -> 24.60584 | H9: =H$5+Kaivo!I22 -> 30.67641 | I9: =I$5+Kaivo!J22 -> 36.9164 | J9: =J$5+Kaivo!K22 -> 45.2484 | K9: =K$5+Kaivo!L22 -> 77.6314 | ... X9: =X$5+Kaivo!Y22 -> 428.012
A10: =Kaivo!A23 -> 3-putkinen keräin 40x2,4 | D10: =D$5+Kaivo!E23 -> 0 | E10: =E$5+Kaivo!F23 -> 10.560169 | F10: =F$5+Kaivo!G23 -> 14.25706 | G10: =G$5+Kaivo!H23 -> 18.17434 | H10: =H$5+Kaivo!I23 -> 22.23041 | I10: =I$5+Kaivo!J23 -> 26.3614 | J10: =J$5+Kaivo!K23 -> 32.7734 | K10: =K$5+Kaivo!L23 -> 37.8274 | ... X10: =X$5+Kaivo!Y23 -> 240.629
A11: =Kaivo!A24 -> 3-putkinen keräin 40x3,7 | D11: =D$5+Kaivo!E24 -> 0 | E11: =E$5+Kaivo!F24 -> 11.459569 | F11: =F$5+Kaivo!G24 -> 16.01806 | G11: =G$5+Kaivo!H24 -> 21.01484 | H11: =H$5+Kaivo!I24 -> 25.95141 | I11: =I$5+Kaivo!J24 -> 31.0574 | J11: =J$5+Kaivo!K24 -> 38.4444 | K11: =K$5+Kaivo!L24 -> 57.4084 | ... X11: =X$5+Kaivo!Y24 -> 309.887
A12: =Kaivo!A25 -> 4-putkinen keräin 40x2,4 | D12: =D$5+Kaivo!E25 -> 0 | E12: =E$5+Kaivo!F25 -> 9.6447689 | F12: =F$5+Kaivo!G25 -> 12.46606 | G12: =G$5+Kaivo!H25 -> 15.48784 | H12: =H$5+Kaivo!I25 -> 18.64841 | I12: =I$5+Kaivo!J25 -> 21.7844 | J12: =J$5+Kaivo!K25 -> 27.4004 | K12: =K$5+Kaivo!L25 -> 31.4594 | ... X12: =X$5+Kaivo!Y25 -> 154.86
A13: =Kaivo!A26 -> 4-putkinen keräin 40x3,7 | D13: =D$5+Kaivo!E26 -> 0 | E13: =E$5+Kaivo!F26 -> 10.265569 | F13: =F$5+Kaivo!G26 -> 13.63006 | G13: =G$5+Kaivo!H26 -> 17.23384 | H13: =H$5+Kaivo!I26 -> 20.97641 | I13: =I$5+Kaivo!J26 -> 24.8884 | J13: =J$5+Kaivo!K26 -> 31.2804 | K13: =K$5+Kaivo!L26 -> 36.1154 | ... X13: =X$5+Kaivo!Y26 -> 185.512
A14: =Kaivo!A27 -> 4-putkinen keräin 32x2,4 | D14: =Kaivo!E27+D5 -> 0 | E14: =Kaivo!F27+E5 -> 12.981569 | F14: =Kaivo!G27+F5 -> 18.67406 | G14: =Kaivo!H27+G5 -> 24.99384 | H14: =Kaivo!I27+H5 -> 31.06441 | I14: =Kaivo!J27+I5 -> 37.6924 | J14: =Kaivo!K27+J5 -> 46.4124 | K14: =Kaivo!L27+K5 -> 53.5754 | ... X14: =Kaivo!Y27+X5 -> 328.684

Sheet Kaivovertailu
U5: virtauksia Nibe(viessmann)
T6: 6 | U6: 8 | V6: 10 | W6: 12 | X6: kW
S7: minimivirtaus | T7: 900(860) | U7: 1188(1160) | V7: 1440(1520) | W7: 1692 | X7: l/h
S8: nimellisvirtaus | T8: 1080 | U8: 1512 | V8: 1836 | W8: 2340 | X8: l/h
